Package: plotgardener Version: 1.17.0 Command: rm -rf plotgardener.buildbin-libdir && mkdir plotgardener.buildbin-libdir && /Users/biocbuild/BBS/utils/build-universal.sh plotgardener_1.17.0.tar.gz /Library/Frameworks/R.framework/Resources/bin/R plotgardener.buildbin-libdir StartedAt: 2025-11-13 23:50:32 -0500 (Thu, 13 Nov 2025) EndedAt: 2025-11-13 23:50:57 -0500 (Thu, 13 Nov 2025) EllapsedTime: 24.6 seconds RetCode: 0 Status: OK PackageFile: plotgardener_1.17.0.tgz PackageFileSize: 3.636 MiB