Package: plotGrouper Version: 1.29.0 Command: /Library/Frameworks/R.framework/Resources/bin/R CMD check --install=check:plotGrouper.install-out.txt --library=/Library/Frameworks/R.framework/Resources/library --no-vignettes --timings plotGrouper_1.29.0.tar.gz StartedAt: 2025-11-14 21:42:58 -0500 (Fri, 14 Nov 2025) EndedAt: 2025-11-14 21:43:26 -0500 (Fri, 14 Nov 2025) EllapsedTime: 28.3 seconds RetCode: 0 Status: OK CheckDir: plotGrouper.Rcheck Warnings: 0