Package: plotGrouper Version: 1.29.0 Command: /Library/Frameworks/R.framework/Resources/bin/R CMD build --keep-empty-dirs --no-resave-data plotGrouper StartedAt: 2025-11-12 16:57:33 -0500 (Wed, 12 Nov 2025) EndedAt: 2025-11-12 16:57:37 -0500 (Wed, 12 Nov 2025) EllapsedTime: 4.1 seconds RetCode: 0 Status: OK PackageFile: plotGrouper_1.29.0.tar.gz PackageFileSize: 704.6 KiB