Package: plotGrouper Version: 1.29.0 Command: rm -rf plotGrouper.buildbin-libdir && mkdir plotGrouper.buildbin-libdir && /Users/biocbuild/BBS/utils/build-universal.sh plotGrouper_1.29.0.tar.gz /Library/Frameworks/R.framework/Resources/bin/R plotGrouper.buildbin-libdir StartedAt: 2025-11-14 23:45:38 -0500 (Fri, 14 Nov 2025) EndedAt: 2025-11-14 23:45:42 -0500 (Fri, 14 Nov 2025) EllapsedTime: 4.1 seconds RetCode: 0 Status: OK PackageFile: plotGrouper_1.29.0.tgz PackageFileSize: 371.3 KiB