Package: plgem Version: 1.83.0 Command: /Library/Frameworks/R.framework/Resources/bin/R CMD INSTALL plgem StartedAt: 2025-11-14 15:20:20 -0500 (Fri, 14 Nov 2025) EndedAt: 2025-11-14 15:20:22 -0500 (Fri, 14 Nov 2025) EllapsedTime: 1.8 seconds RetCode: 0 Status: OK