Package: plasmut Version: 1.9.0 Command: /Library/Frameworks/R.framework/Resources/bin/R CMD INSTALL plasmut StartedAt: 2025-11-14 15:06:12 -0500 (Fri, 14 Nov 2025) EndedAt: 2025-11-14 15:06:16 -0500 (Fri, 14 Nov 2025) EllapsedTime: 4.3 seconds RetCode: 0 Status: OK