Package: plasmut Version: 1.9.0 Command: /Library/Frameworks/R.framework/Resources/bin/R CMD build --keep-empty-dirs --no-resave-data plasmut StartedAt: 2025-11-14 17:17:48 -0500 (Fri, 14 Nov 2025) EndedAt: 2025-11-14 17:18:49 -0500 (Fri, 14 Nov 2025) EllapsedTime: 60.7 seconds RetCode: 0 Status: OK PackageFile: plasmut_1.9.0.tar.gz PackageFileSize: 341.3 KiB