Package: plasmut Version: 1.9.0 Command: rm -rf plasmut.buildbin-libdir && mkdir plasmut.buildbin-libdir && /Users/biocbuild/BBS/utils/build-universal.sh plasmut_1.9.0.tar.gz /Library/Frameworks/R.framework/Resources/bin/R plasmut.buildbin-libdir StartedAt: 2025-11-14 23:45:38 -0500 (Fri, 14 Nov 2025) EndedAt: 2025-11-14 23:45:41 -0500 (Fri, 14 Nov 2025) EllapsedTime: 3.1 seconds RetCode: 0 Status: OK PackageFile: plasmut_1.9.0.tgz PackageFileSize: 354.3 KiB