Package: planet Version: 1.19.0 Command: /home/biocbuild/bbs-3.23-bioc/R/bin/R CMD INSTALL planet StartedAt: 2025-11-11 15:13:25 -0500 (Tue, 11 Nov 2025) EndedAt: 2025-11-11 15:13:34 -0500 (Tue, 11 Nov 2025) EllapsedTime: 9.5 seconds RetCode: 0 Status: OK