Package: planet Version: 1.19.0 Command: /Library/Frameworks/R.framework/Resources/bin/R CMD INSTALL planet StartedAt: 2025-11-13 15:05:22 -0500 (Thu, 13 Nov 2025) EndedAt: 2025-11-13 15:05:28 -0500 (Thu, 13 Nov 2025) EllapsedTime: 5.6 seconds RetCode: 0 Status: OK