Package: planet Version: 1.19.0 Command: /Library/Frameworks/R.framework/Resources/bin/R CMD build --keep-empty-dirs --no-resave-data planet StartedAt: 2025-11-13 17:20:41 -0500 (Thu, 13 Nov 2025) EndedAt: 2025-11-13 17:21:04 -0500 (Thu, 13 Nov 2025) EllapsedTime: 23.3 seconds RetCode: 0 Status: OK PackageFile: planet_1.19.0.tar.gz PackageFileSize: 2.86 MiB