Package: planet Version: 1.19.0 Maintainer: Victor Yuan MaintainerEmail: victor.2wy at gmail.com git_url: https://git.bioconductor.org/packages/planet git_branch: devel git_last_commit: 8c6ed45 git_last_commit_date: 2025-10-29 11:05:44 -0500 (Wed, 29 Oct 2025)