Package: pipeFrame Version: 1.27.0 Command: /home/biocbuild/bbs-3.23-bioc/R/bin/R CMD build --keep-empty-dirs --no-resave-data pipeFrame StartedAt: 2025-11-11 19:21:37 -0500 (Tue, 11 Nov 2025) EndedAt: 2025-11-11 19:22:28 -0500 (Tue, 11 Nov 2025) EllapsedTime: 51.0 seconds RetCode: 0 Status: OK PackageFile: pipeFrame_1.27.0.tar.gz PackageFileSize: 1.195 MiB