Package: pipeFrame Version: 1.27.0 Command: /Library/Frameworks/R.framework/Resources/bin/R CMD INSTALL pipeFrame StartedAt: 2025-11-12 15:45:29 -0500 (Wed, 12 Nov 2025) EndedAt: 2025-11-12 15:45:42 -0500 (Wed, 12 Nov 2025) EllapsedTime: 12.7 seconds RetCode: 0 Status: OK