Package: pipeFrame Version: 1.27.0 Maintainer: Zheng Wei MaintainerEmail: wzweizheng at qq.com git_url: https://git.bioconductor.org/packages/pipeFrame git_branch: devel git_last_commit: b7c4419 git_last_commit_date: 2025-10-29 10:51:51 -0500 (Wed, 29 Oct 2025)