Package: pipeComp Version: 1.21.0 Command: /Library/Frameworks/R.framework/Resources/bin/R CMD build --keep-empty-dirs --no-resave-data pipeComp StartedAt: 2025-11-13 17:20:16 -0500 (Thu, 13 Nov 2025) EndedAt: 2025-11-13 17:20:58 -0500 (Thu, 13 Nov 2025) EllapsedTime: 42.5 seconds RetCode: 0 Status: OK PackageFile: pipeComp_1.21.0.tar.gz PackageFileSize: 4.006 MiB