Package: pipeComp Version: 1.21.0 Maintainer: Pierre-Luc Germain MaintainerEmail: pierre-luc.germain at hest.ethz.ch git_url: https://git.bioconductor.org/packages/pipeComp git_branch: devel git_last_commit: 826f159 git_last_commit_date: 2025-10-29 11:00:20 -0500 (Wed, 29 Oct 2025)