Package: phyloseq Version: 1.55.0 Command: /home/biocbuild/bbs-3.23-bioc/R/bin/R CMD INSTALL phyloseq StartedAt: 2025-11-13 15:16:47 -0500 (Thu, 13 Nov 2025) EndedAt: 2025-11-13 15:17:12 -0500 (Thu, 13 Nov 2025) EllapsedTime: 25.3 seconds RetCode: 0 Status: OK