Package: phyloseq Version: 1.55.0 Maintainer: Paul J. McMurdie MaintainerEmail: joey711 at gmail.com git_url: https://git.bioconductor.org/packages/phyloseq git_branch: devel git_last_commit: 3b97933 git_last_commit_date: 2025-10-29 10:10:12 -0500 (Wed, 29 Oct 2025)