Package: phosphonormalizer Version: 1.35.0 Command: /home/biocbuild/bbs-3.23-bioc/R/bin/R CMD build --keep-empty-dirs --no-resave-data phosphonormalizer StartedAt: 2025-11-11 19:21:01 -0500 (Tue, 11 Nov 2025) EndedAt: 2025-11-11 19:21:09 -0500 (Tue, 11 Nov 2025) EllapsedTime: 8.0 seconds RetCode: 0 Status: OK PackageFile: phosphonormalizer_1.35.0.tar.gz PackageFileSize: 2.695 MiB