Package: phosphonormalizer Version: 1.35.0 Command: /Library/Frameworks/R.framework/Resources/bin/R CMD INSTALL phosphonormalizer StartedAt: 2025-11-12 15:17:17 -0500 (Wed, 12 Nov 2025) EndedAt: 2025-11-12 15:17:23 -0500 (Wed, 12 Nov 2025) EllapsedTime: 6.1 seconds RetCode: 0 Status: OK