Package: phosphonormalizer Version: 1.35.0 Command: rm -rf phosphonormalizer.buildbin-libdir && mkdir phosphonormalizer.buildbin-libdir && /Users/biocbuild/BBS/utils/build-universal.sh phosphonormalizer_1.35.0.tar.gz /Library/Frameworks/R.framework/Resources/bin/R phosphonormalizer.buildbin-libdir StartedAt: 2025-11-12 21:06:13 -0500 (Wed, 12 Nov 2025) EndedAt: 2025-11-12 21:06:15 -0500 (Wed, 12 Nov 2025) EllapsedTime: 2.1 seconds RetCode: 0 Status: OK PackageFile: phosphonormalizer_1.35.0.tgz PackageFileSize: 2.709 MiB