Package: phenopath Version: 1.35.0 Command: /Library/Frameworks/R.framework/Resources/bin/R CMD INSTALL phenopath StartedAt: 2025-11-16 15:11:40 -0500 (Sun, 16 Nov 2025) EndedAt: 2025-11-16 15:11:52 -0500 (Sun, 16 Nov 2025) EllapsedTime: 12.4 seconds RetCode: 0 Status: OK