Package: phenopath Version: 1.35.0 Command: /Library/Frameworks/R.framework/Resources/bin/R CMD build --keep-empty-dirs --no-resave-data phenopath StartedAt: 2025-11-16 17:17:39 -0500 (Sun, 16 Nov 2025) EndedAt: 2025-11-16 17:17:59 -0500 (Sun, 16 Nov 2025) EllapsedTime: 20.2 seconds RetCode: 0 Status: OK PackageFile: phenopath_1.35.0.tar.gz PackageFileSize: 1.307 MiB