Package: phenopath Version: 1.35.0 Command: rm -rf phenopath.buildbin-libdir && mkdir phenopath.buildbin-libdir && /Users/biocbuild/BBS/utils/build-universal.sh phenopath_1.35.0.tar.gz /Library/Frameworks/R.framework/Resources/bin/R phenopath.buildbin-libdir StartedAt: 2025-11-16 23:46:31 -0500 (Sun, 16 Nov 2025) EndedAt: 2025-11-16 23:46:47 -0500 (Sun, 16 Nov 2025) EllapsedTime: 16.3 seconds RetCode: 0 Status: OK PackageFile: phenopath_1.35.0.tgz PackageFileSize: 1.025 MiB