Package: phenoTest Version: 1.59.0 Command: /Library/Frameworks/R.framework/Resources/bin/R CMD INSTALL phenoTest StartedAt: 2025-11-14 15:10:32 -0500 (Fri, 14 Nov 2025) EndedAt: 2025-11-14 15:10:45 -0500 (Fri, 14 Nov 2025) EllapsedTime: 13.1 seconds RetCode: 0 Status: OK