Package: phenoTest Version: 1.59.0 Command: /Library/Frameworks/R.framework/Resources/bin/R CMD build --keep-empty-dirs --no-resave-data phenoTest StartedAt: 2025-11-14 17:16:49 -0500 (Fri, 14 Nov 2025) EndedAt: 2025-11-14 17:17:12 -0500 (Fri, 14 Nov 2025) EllapsedTime: 23.2 seconds RetCode: 0 Status: OK PackageFile: phenoTest_1.59.0.tar.gz PackageFileSize: 1.273 MiB