Package: phenoTest Version: 1.59.0 Command: rm -rf phenoTest.buildbin-libdir && mkdir phenoTest.buildbin-libdir && /Users/biocbuild/BBS/utils/build-universal.sh phenoTest_1.59.0.tar.gz /Library/Frameworks/R.framework/Resources/bin/R phenoTest.buildbin-libdir StartedAt: 2025-11-14 23:45:22 -0500 (Fri, 14 Nov 2025) EndedAt: 2025-11-14 23:45:39 -0500 (Fri, 14 Nov 2025) EllapsedTime: 17.5 seconds RetCode: 0 Status: OK PackageFile: phenoTest_1.59.0.tgz PackageFileSize: 1.894 MiB