Package: phantasusLite Version: 1.9.0 Command: rm -rf phantasusLite.buildbin-libdir && mkdir phantasusLite.buildbin-libdir && /Users/biocbuild/BBS/utils/build-universal.sh phantasusLite_1.9.0.tar.gz /Library/Frameworks/R.framework/Resources/bin/R phantasusLite.buildbin-libdir StartedAt: 2025-11-13 23:50:14 -0500 (Thu, 13 Nov 2025) EndedAt: 2025-11-13 23:50:23 -0500 (Thu, 13 Nov 2025) EllapsedTime: 9.2 seconds RetCode: 0 Status: OK PackageFile: phantasusLite_1.9.0.tgz PackageFileSize: 306.7 KiB