Package: pgxRpi Version: 1.7.0 Command: /Library/Frameworks/R.framework/Resources/bin/R CMD INSTALL pgxRpi StartedAt: 2025-11-13 15:18:12 -0500 (Thu, 13 Nov 2025) EndedAt: 2025-11-13 15:18:13 -0500 (Thu, 13 Nov 2025) EllapsedTime: 1.2 seconds RetCode: 0 Status: OK