Package: pgxRpi Version: 1.7.0 Command: /Library/Frameworks/R.framework/Resources/bin/R CMD build --keep-empty-dirs --no-resave-data pgxRpi StartedAt: 2025-11-13 17:19:24 -0500 (Thu, 13 Nov 2025) EndedAt: 2025-11-13 17:23:12 -0500 (Thu, 13 Nov 2025) EllapsedTime: 227.6 seconds RetCode: 0 Status: OK PackageFile: pgxRpi_1.7.0.tar.gz PackageFileSize: 2.94 MiB