Package: pgxRpi Version: 1.7.0 Command: rm -rf pgxRpi.buildbin-libdir && mkdir pgxRpi.buildbin-libdir && /Users/biocbuild/BBS/utils/build-universal.sh pgxRpi_1.7.0.tar.gz /Library/Frameworks/R.framework/Resources/bin/R pgxRpi.buildbin-libdir StartedAt: 2025-11-13 23:50:12 -0500 (Thu, 13 Nov 2025) EndedAt: 2025-11-13 23:50:15 -0500 (Thu, 13 Nov 2025) EllapsedTime: 3.1 seconds RetCode: 0 Status: OK PackageFile: pgxRpi_1.7.0.tgz PackageFileSize: 3.043 MiB