Package: pgxRpi Version: 1.7.0 Maintainer: Hangjia Zhao MaintainerEmail: hangjia.zhao at uzh.ch git_url: https://git.bioconductor.org/packages/pgxRpi git_branch: devel git_last_commit: 8de3d7a git_last_commit_date: 2025-10-29 11:26:40 -0500 (Wed, 29 Oct 2025)