Package: pgca Version: 1.35.0 Command: /Library/Frameworks/R.framework/Resources/bin/R CMD build --keep-empty-dirs --no-resave-data pgca StartedAt: 2025-11-14 17:16:27 -0500 (Fri, 14 Nov 2025) EndedAt: 2025-11-14 17:16:30 -0500 (Fri, 14 Nov 2025) EllapsedTime: 3.0 seconds RetCode: 0 Status: OK PackageFile: pgca_1.35.0.tar.gz PackageFileSize: 217.6 KiB