Package: pepXMLTab Version: 1.45.0 Command: /home/biocbuild/bbs-3.23-bioc/R/bin/R CMD INSTALL pepXMLTab StartedAt: 2025-11-11 15:06:29 -0500 (Tue, 11 Nov 2025) EndedAt: 2025-11-11 15:06:38 -0500 (Tue, 11 Nov 2025) EllapsedTime: 8.2 seconds RetCode: 0 Status: OK