Package: pepXMLTab Version: 1.45.0 Command: /home/biocbuild/bbs-3.23-bioc/R/bin/R CMD build --keep-empty-dirs --no-resave-data pepXMLTab StartedAt: 2025-11-11 19:20:03 -0500 (Tue, 11 Nov 2025) EndedAt: 2025-11-11 19:20:10 -0500 (Tue, 11 Nov 2025) EllapsedTime: 7.0 seconds RetCode: 0 Status: OK PackageFile: pepXMLTab_1.45.0.tar.gz PackageFileSize: 187.9 KiB