Package: pepStat Version: 1.45.0 Command: /home/biocbuild/bbs-3.23-bioc/R/bin/R CMD build --keep-empty-dirs --no-resave-data pepStat StartedAt: 2025-11-14 19:14:49 -0500 (Fri, 14 Nov 2025) EndedAt: 2025-11-14 19:15:42 -0500 (Fri, 14 Nov 2025) EllapsedTime: 53.1 seconds RetCode: 0 Status: OK PackageFile: pepStat_1.45.0.tar.gz PackageFileSize: 320.7 KiB