Package: pepStat Version: 1.45.0 Maintainer: Gregory C Imholte MaintainerEmail: gimholte at uw.edu git_url: https://git.bioconductor.org/packages/pepStat git_branch: devel git_last_commit: d3092b9 git_last_commit_date: 2025-10-29 10:20:13 -0500 (Wed, 29 Oct 2025)