Package: pengls Version: 1.17.0 Command: /home/biocbuild/bbs-3.23-bioc/R/bin/R CMD INSTALL pengls StartedAt: 2025-11-14 15:07:10 -0500 (Fri, 14 Nov 2025) EndedAt: 2025-11-14 15:07:46 -0500 (Fri, 14 Nov 2025) EllapsedTime: 36.5 seconds RetCode: 0 Status: OK