Package: pengls Version: 1.17.0 Command: /home/biocbuild/bbs-3.23-bioc/R/bin/R CMD build --keep-empty-dirs --no-resave-data pengls StartedAt: 2025-11-13 19:14:25 -0500 (Thu, 13 Nov 2025) EndedAt: 2025-11-13 19:16:38 -0500 (Thu, 13 Nov 2025) EllapsedTime: 133.2 seconds RetCode: 0 Status: OK PackageFile: pengls_1.17.0.tar.gz PackageFileSize: 57.79 KiB