Package: pengls Version: 1.17.0 Command: /Library/Frameworks/R.framework/Resources/bin/R CMD INSTALL pengls StartedAt: 2025-11-13 15:03:43 -0500 (Thu, 13 Nov 2025) EndedAt: 2025-11-13 15:04:02 -0500 (Thu, 13 Nov 2025) EllapsedTime: 19.5 seconds RetCode: 0 Status: OK