Package: pengls Version: 1.17.0 Command: rm -rf pengls.buildbin-libdir && mkdir pengls.buildbin-libdir && /Users/biocbuild/BBS/utils/build-universal.sh pengls_1.17.0.tar.gz /Library/Frameworks/R.framework/Resources/bin/R pengls.buildbin-libdir StartedAt: 2025-11-13 23:50:06 -0500 (Thu, 13 Nov 2025) EndedAt: 2025-11-13 23:50:10 -0500 (Thu, 13 Nov 2025) EllapsedTime: 4.1 seconds RetCode: 0 Status: OK PackageFile: pengls_1.17.0.tgz PackageFileSize: 97.72 KiB