Package: pengls Version: 1.17.0 Maintainer: Stijn Hawinkel MaintainerEmail: stijn.hawinkel at psb.ugent.be git_url: https://git.bioconductor.org/packages/pengls git_branch: devel git_last_commit: 4915b97 git_last_commit_date: 2025-10-29 11:13:45 -0500 (Wed, 29 Oct 2025)