Package: peco Version: 1.23.0 Command: /home/biocbuild/bbs-3.23-bioc/R/bin/R CMD build --keep-empty-dirs --no-resave-data peco StartedAt: 2025-11-26 19:15:15 -0500 (Wed, 26 Nov 2025) EndedAt: 2025-11-26 19:17:30 -0500 (Wed, 26 Nov 2025) EllapsedTime: 134.2 seconds RetCode: 0 Status: OK PackageFile: peco_1.23.0.tar.gz PackageFileSize: 1.067 MiB