Package: peco Version: 1.23.0 Command: rm -rf peco.buildbin-libdir && mkdir peco.buildbin-libdir && /Users/biocbuild/BBS/utils/build-universal.sh peco_1.23.0.tar.gz /Library/Frameworks/R.framework/Resources/bin/R peco.buildbin-libdir StartedAt: 2025-11-14 23:45:11 -0500 (Fri, 14 Nov 2025) EndedAt: 2025-11-14 23:45:26 -0500 (Fri, 14 Nov 2025) EllapsedTime: 14.4 seconds RetCode: 0 Status: OK PackageFile: peco_1.23.0.tgz PackageFileSize: 1.127 MiB