Package: peakPantheR Version: 1.25.0 Command: /home/biocbuild/bbs-3.23-bioc/R/bin/R CMD INSTALL peakPantheR StartedAt: 2025-11-20 15:37:29 -0500 (Thu, 20 Nov 2025) EndedAt: 2025-11-20 15:37:40 -0500 (Thu, 20 Nov 2025) EllapsedTime: 11.0 seconds RetCode: 0 Status: OK