Package: peakPantheR Version: 1.25.0 Command: /Library/Frameworks/R.framework/Resources/bin/R CMD INSTALL peakPantheR StartedAt: 2025-11-14 15:22:58 -0500 (Fri, 14 Nov 2025) EndedAt: 2025-11-14 15:23:02 -0500 (Fri, 14 Nov 2025) EllapsedTime: 4.4 seconds RetCode: 0 Status: OK