Package: peakPantheR Version: 1.25.0 Command: /Library/Frameworks/R.framework/Resources/bin/R CMD build --keep-empty-dirs --no-resave-data peakPantheR StartedAt: 2025-11-14 17:15:59 -0500 (Fri, 14 Nov 2025) EndedAt: 2025-11-14 17:16:49 -0500 (Fri, 14 Nov 2025) EllapsedTime: 49.6 seconds RetCode: 0 Status: OK PackageFile: peakPantheR_1.25.0.tar.gz PackageFileSize: 3.956 MiB