Package: peakPantheR Version: 1.25.0 Command: rm -rf peakPantheR.buildbin-libdir && mkdir peakPantheR.buildbin-libdir && /Users/biocbuild/BBS/utils/build-universal.sh peakPantheR_1.25.0.tar.gz /Library/Frameworks/R.framework/Resources/bin/R peakPantheR.buildbin-libdir StartedAt: 2025-11-14 23:45:10 -0500 (Fri, 14 Nov 2025) EndedAt: 2025-11-14 23:45:16 -0500 (Fri, 14 Nov 2025) EllapsedTime: 6.2 seconds RetCode: 0 Status: OK PackageFile: peakPantheR_1.25.0.tgz PackageFileSize: 3.051 MiB