Package: peakCombiner Version: 1.1.0 Command: /home/biocbuild/bbs-3.23-bioc/R/bin/R CMD INSTALL peakCombiner StartedAt: 2025-11-14 15:16:01 -0500 (Fri, 14 Nov 2025) EndedAt: 2025-11-14 15:16:05 -0500 (Fri, 14 Nov 2025) EllapsedTime: 4.3 seconds RetCode: 0 Status: OK